Workbook

Sheet definície premenných
A1: Tento hárok slúži na definovanie premenných. Vypĺňajte žlté políčka, ostatné nemeňte. Poradie (mená, školy, body) zadávajte do tabuliek v ďalších hárkoch – tam vypĺňajte iba stĺpce označené zelenou, ostatné sa vypĺňa automaticky. V prípade väčšieho počtu súťažiacich môžete vložiť ďalšie riadky, vtedy nezabudnite do nových políčok prekopírovať vzorce. Na konci zoraďte údaje podľa stĺpca "SPOLU". Samozrejme, ak Vám vyhovuje iný formát tabuľky, použite vlastnú šablónu alebo prerobte túto. Táto šablóna nie je záväzná.
A2: Uvítame, ak nám výsledkové listiny (či už v tomto formáte alebo v akomkoľvek inom) zašlete na e-mailovú adresu: skmo@skmo.sk V takom prípade ich budeme môcť zverejniť na oficiálnej stránke Matematickej olympiády: http://skmo.sk
A3: Ročník: | B3: 71
A4: Školský rok: | B4: =CONCATENATE(TEXT(B3+1950,0),"/",TEXT(B3+1951,0)) -> 2021/2022
A5: Okres: | B5: ??? | C5: (← vyplňte názov okresu)
A6: Predseda OKMO: | B6: ??? | C6: (← vyplňte meno predsedu/predsedníčky Okresnej komisie) | D6: =IF(ISERROR(FIND("á ",CONCATENATE($B$6," ")))=TRUE,IF(ISERROR(FIND("á,",CONCATENATE($B$6," ")))=TRUE,IF((LEN(CONCATENATE($B$6," "))-LEN(SUBSTITUTE(SUBSTITUTE(CONCATENATE($B$6," "),", "," "),"a ","")))/2<2,"Predseda","Predsedníčka"),"Predsedníčka"),"Predsedníčka") -> Predseda
A8: termíny:
A9: Z5: | B9: 26. január 2022
A10: Z6: | B10: 12. apríl 2022
A11: Z7: | B11: 12. apríl 2022
A12: Z8: | B12: 12. apríl 2022
A13: Z9: | B13: 26. január 2022

Sheet Z5
A1: Výsledková listina okresného kola Matematickej olympiády
A2: =CONCATENATE(TEXT('definície premenných'!B3,0),". ročník, školský rok ",'definície premenných'!B4,", kategória Z5") -> 71. ročník, školský rok 2021/2022, kategória Z5
B3: Okres: | C3: ='definície premenných'!B5 -> ???
B4: Termín konania: | C4: ='definície premenných'!B9 -> 26. január 2022
A5: Poradie | B5: Meno a priezvisko | C5: Škola | D5: Body | G5: SPOLU | H5: žiaka/-čku pripravoval/-a
D6: 1.úloha | E6: 2.úloha | F6: 3.úloha
A7: =IF(B7="","",IF(COUNTIF(G:G,G7)=1,CONCATENATE(TEXT(COUNTIF(G:G,">="&G7),0),"."),CONCATENATE(TEXT(COUNTIF(G:G,">"&G7)+1,0),". – ",TEXT(COUNTIF(G:G,">="&G7),0),"."))) | G7: =IF(B7="","",SUM(D7:F7))
A8: =IF(B8="","",IF(COUNTIF(G:G,G8)=1,CONCATENATE(TEXT(COUNTIF(G:G,">="&G8),0),"."),CONCATENATE(TEXT(COUNTIF(G:G,">"&G8)+1,0),". – ",TEXT(COUNTIF(G:G,">="&G8),0),"."))) | G8: =IF(B8="","",SUM(D8:F8))
A9: =IF(B9="","",IF(COUNTIF(G:G,G9)=1,CONCATENATE(TEXT(COUNTIF(G:G,">="&G9),0),"."),CONCATENATE(TEXT(COUNTIF(G:G,">"&G9)+1,0),". – ",TEXT(COUNTIF(G:G,">="&G9),0),"."))) | G9: =IF(B9="","",SUM(D9:F9))
A10: =IF(B10="","",IF(COUNTIF(G:G,G10)=1,CONCATENATE(TEXT(COUNTIF(G:G,">="&G10),0),"."),CONCATENATE(TEXT(COUNTIF(G:G,">"&G10)+1,0),". – ",TEXT(COUNTIF(G:G,">="&G10),0),"."))) | G10: =IF(B10="","",SUM(D10:F10))
A11: =IF(B11="","",IF(COUNTIF(G:G,G11)=1,CONCATENATE(TEXT(COUNTIF(G:G,">="&G11),0),"."),CONCATENATE(TEXT(COUNTIF(G:G,">"&G11)+1,0),". – ",TEXT(COUNTIF(G:G,">="&G11),0),"."))) | G11: =IF(B11="","",SUM(D11:F11))
A12: =IF(B12="","",IF(COUNTIF(G:G,G12)=1,CONCATENATE(TEXT(COUNTIF(G:G,">="&G12),0),"."),CONCATENATE(TEXT(COUNTIF(G:G,">"&G12)+1,0),". – ",TEXT(COUNTIF(G:G,">="&G12),0),"."))) | G12: =IF(B12="","",SUM(D12:F12))
A13: =IF(B13="","",IF(COUNTIF(G:G,G13)=1,CONCATENATE(TEXT(COUNTIF(G:G,">="&G13),0),"."),CONCATENATE(TEXT(COUNTIF(G:G,">"&G13)+1,0),". – ",TEXT(COUNTIF(G:G,">="&G13),0),"."))) | G13: =IF(B13="","",SUM(D13:F13))
A14: =IF(B14="","",IF(COUNTIF(G:G,G14)=1,CONCATENATE(TEXT(COUNTIF(G:G,">="&G14),0),"."),CONCATENATE(TEXT(COUNTIF(G:G,">"&G14)+1,0),". – ",TEXT(COUNTIF(G:G,">="&G14),0),"."))) | G14: =IF(B14="","",SUM(D14:F14))
A15: =IF(B15="","",IF(COUNTIF(G:G,G15)=1,CONCATENATE(TEXT(COUNTIF(G:G,">="&G15),0),"."),CONCATENATE(TEXT(COUNTIF(G:G,">"&G15)+1,0),". – ",TEXT(COUNTIF(G:G,">="&G15),0),"."))) | G15: =IF(B15="","",SUM(D15:F15))
A16: =IF(B16="","",IF(COUNTIF(G:G,G16)=1,CONCATENATE(TEXT(COUNTIF(G:G,">="&G16),0),"."),CONCATENATE(TEXT(COUNTIF(G:G,">"&G16)+1,0),". – ",TEXT(COUNTIF(G:G,">="&G16),0),"."))) | G16: =IF(B16="","",SUM(D16:F16))
A17: =IF(B17="","",IF(COUNTIF(G:G,G17)=1,CONCATENATE(TEXT(COUNTIF(G:G,">="&G17),0),"."),CONCATENATE(TEXT(COUNTIF(G:G,">"&G17)+1,0),". – ",TEXT(COUNTIF(G:G,">="&G17),0),"."))) | G17: =IF(B17="","",SUM(D17:F17))
A18: =IF(B18="","",IF(COUNTIF(G:G,G18)=1,CONCATENATE(TEXT(COUNTIF(G:G,">="&G18),0),"."),CONCATENATE(TEXT(COUNTIF(G:G,">"&G18)+1,0),". – ",TEXT(COUNTIF(G:G,">="&G18),0),"."))) | G18: =IF(B18="","",SUM(D18:F18))
... A39: =IF(B39="","",IF(COUNTIF(G:G,G39)=1,CONCATENATE(TEXT(COUNTIF(G:G,">="&G39),0),"."),CONCATENATE(TEXT(COUNTIF(G:G,">"&G39)+1,0),". – ",TEXT(COUNTIF(G:G,">="&G39),0),"."))) | G39: =IF(B39="","",SUM(D39:F39))
C41: =CONCATENATE('definície premenných'!D6," OK MO: ",'definície premenných'!B6) -> Predseda OK MO: ???

Sheet Z6
A1: Výsledková listina okresného kola Matematickej olympiády
A2: =CONCATENATE(TEXT('definície premenných'!B3,0),". ročník, školský rok ",'definície premenných'!B4,", kategória Z6") -> 71. ročník, školský rok 2021/2022, kategória Z6
B3: Okres: | C3: ='definície premenných'!B5 -> ???
B4: Termín konania: | C4: ='definície premenných'!B10 -> 12. apríl 2022
A5: Poradie | B5: Meno a priezvisko | C5: Škola | D5: Body | G5: SPOLU | H5: žiaka/-čku pripravoval/-a
D6: 1.úloha | E6: 2.úloha | F6: 3.úloha
A7: =IF(B7="","",IF(COUNTIF(G:G,G7)=1,CONCATENATE(TEXT(COUNTIF(G:G,">="&G7),0),"."),CONCATENATE(TEXT(COUNTIF(G:G,">"&G7)+1,0),". – ",TEXT(COUNTIF(G:G,">="&G7),0),"."))) | G7: =IF(B7="","",SUM(D7:F7))
A8: =IF(B8="","",IF(COUNTIF(G:G,G8)=1,CONCATENATE(TEXT(COUNTIF(G:G,">="&G8),0),"."),CONCATENATE(TEXT(COUNTIF(G:G,">"&G8)+1,0),". – ",TEXT(COUNTIF(G:G,">="&G8),0),"."))) | G8: =IF(B8="","",SUM(D8:F8))
A9: =IF(B9="","",IF(COUNTIF(G:G,G9)=1,CONCATENATE(TEXT(COUNTIF(G:G,">="&G9),0),"."),CONCATENATE(TEXT(COUNTIF(G:G,">"&G9)+1,0),". – ",TEXT(COUNTIF(G:G,">="&G9),0),"."))) | G9: =IF(B9="","",SUM(D9:F9))
A10: =IF(B10="","",IF(COUNTIF(G:G,G10)=1,CONCATENATE(TEXT(COUNTIF(G:G,">="&G10),0),"."),CONCATENATE(TEXT(COUNTIF(G:G,">"&G10)+1,0),". – ",TEXT(COUNTIF(G:G,">="&G10),0),"."))) | G10: =IF(B10="","",SUM(D10:F10))
A11: =IF(B11="","",IF(COUNTIF(G:G,G11)=1,CONCATENATE(TEXT(COUNTIF(G:G,">="&G11),0),"."),CONCATENATE(TEXT(COUNTIF(G:G,">"&G11)+1,0),". – ",TEXT(COUNTIF(G:G,">="&G11),0),"."))) | G11: =IF(B11="","",SUM(D11:F11))
A12: =IF(B12="","",IF(COUNTIF(G:G,G12)=1,CONCATENATE(TEXT(COUNTIF(G:G,">="&G12),0),"."),CONCATENATE(TEXT(COUNTIF(G:G,">"&G12)+1,0),". – ",TEXT(COUNTIF(G:G,">="&G12),0),"."))) | G12: =IF(B12="","",SUM(D12:F12))
A13: =IF(B13="","",IF(COUNTIF(G:G,G13)=1,CONCATENATE(TEXT(COUNTIF(G:G,">="&G13),0),"."),CONCATENATE(TEXT(COUNTIF(G:G,">"&G13)+1,0),". – ",TEXT(COUNTIF(G:G,">="&G13),0),"."))) | G13: =IF(B13="","",SUM(D13:F13))
A14: =IF(B14="","",IF(COUNTIF(G:G,G14)=1,CONCATENATE(TEXT(COUNTIF(G:G,">="&G14),0),"."),CONCATENATE(TEXT(COUNTIF(G:G,">"&G14)+1,0),". – ",TEXT(COUNTIF(G:G,">="&G14),0),"."))) | G14: =IF(B14="","",SUM(D14:F14))
A15: =IF(B15="","",IF(COUNTIF(G:G,G15)=1,CONCATENATE(TEXT(COUNTIF(G:G,">="&G15),0),"."),CONCATENATE(TEXT(COUNTIF(G:G,">"&G15)+1,0),". – ",TEXT(COUNTIF(G:G,">="&G15),0),"."))) | G15: =IF(B15="","",SUM(D15:F15))
A16: =IF(B16="","",IF(COUNTIF(G:G,G16)=1,CONCATENATE(TEXT(COUNTIF(G:G,">="&G16),0),"."),CONCATENATE(TEXT(COUNTIF(G:G,">"&G16)+1,0),". – ",TEXT(COUNTIF(G:G,">="&G16),0),"."))) | G16: =IF(B16="","",SUM(D16:F16))
A17: =IF(B17="","",IF(COUNTIF(G:G,G17)=1,CONCATENATE(TEXT(COUNTIF(G:G,">="&G17),0),"."),CONCATENATE(TEXT(COUNTIF(G:G,">"&G17)+1,0),". – ",TEXT(COUNTIF(G:G,">="&G17),0),"."))) | G17: =IF(B17="","",SUM(D17:F17))
A18: =IF(B18="","",IF(COUNTIF(G:G,G18)=1,CONCATENATE(TEXT(COUNTIF(G:G,">="&G18),0),"."),CONCATENATE(TEXT(COUNTIF(G:G,">"&G18)+1,0),". – ",TEXT(COUNTIF(G:G,">="&G18),0),"."))) | G18: =IF(B18="","",SUM(D18:F18))
... A39: =IF(B39="","",IF(COUNTIF(G:G,G39)=1,CONCATENATE(TEXT(COUNTIF(G:G,">="&G39),0),"."),CONCATENATE(TEXT(COUNTIF(G:G,">"&G39)+1,0),". – ",TEXT(COUNTIF(G:G,">="&G39),0),"."))) | G39: =IF(B39="","",SUM(D39:F39))
C41: =CONCATENATE('definície premenných'!D6," OK MO: ",'definície premenných'!B6) -> Predseda OK MO: ???

Sheet Z7
A1: Výsledková listina okresného kola Matematickej olympiády
A2: =CONCATENATE(TEXT('definície premenných'!B3,0),". ročník, školský rok ",'definície premenných'!B4,", kategória Z7") -> 71. ročník, školský rok 2021/2022, kategória Z7
B3: Okres: | C3: ='definície premenných'!B5 -> ???
B4: Termín konania: | C4: ='definície premenných'!B11 -> 12. apríl 2022
A5: Poradie | B5: Meno a priezvisko | C5: Škola | D5: Body | G5: SPOLU | H5: žiaka/-čku pripravoval/-a
D6: 1.úloha | E6: 2.úloha | F6: 3.úloha
A7: =IF(B7="","",IF(COUNTIF(G:G,G7)=1,CONCATENATE(TEXT(COUNTIF(G:G,">="&G7),0),"."),CONCATENATE(TEXT(COUNTIF(G:G,">"&G7)+1,0),". – ",TEXT(COUNTIF(G:G,">="&G7),0),"."))) | G7: =IF(B7="","",SUM(D7:F7))
A8: =IF(B8="","",IF(COUNTIF(G:G,G8)=1,CONCATENATE(TEXT(COUNTIF(G:G,">="&G8),0),"."),CONCATENATE(TEXT(COUNTIF(G:G,">"&G8)+1,0),". – ",TEXT(COUNTIF(G:G,">="&G8),0),"."))) | G8: =IF(B8="","",SUM(D8:F8))
A9: =IF(B9="","",IF(COUNTIF(G:G,G9)=1,CONCATENATE(TEXT(COUNTIF(G:G,">="&G9),0),"."),CONCATENATE(TEXT(COUNTIF(G:G,">"&G9)+1,0),". – ",TEXT(COUNTIF(G:G,">="&G9),0),"."))) | G9: =IF(B9="","",SUM(D9:F9))
A10: =IF(B10="","",IF(COUNTIF(G:G,G10)=1,CONCATENATE(TEXT(COUNTIF(G:G,">="&G10),0),"."),CONCATENATE(TEXT(COUNTIF(G:G,">"&G10)+1,0),". – ",TEXT(COUNTIF(G:G,">="&G10),0),"."))) | G10: =IF(B10="","",SUM(D10:F10))
A11: =IF(B11="","",IF(COUNTIF(G:G,G11)=1,CONCATENATE(TEXT(COUNTIF(G:G,">="&G11),0),"."),CONCATENATE(TEXT(COUNTIF(G:G,">"&G11)+1,0),". – ",TEXT(COUNTIF(G:G,">="&G11),0),"."))) | G11: =IF(B11="","",SUM(D11:F11))
A12: =IF(B12="","",IF(COUNTIF(G:G,G12)=1,CONCATENATE(TEXT(COUNTIF(G:G,">="&G12),0),"."),CONCATENATE(TEXT(COUNTIF(G:G,">"&G12)+1,0),". – ",TEXT(COUNTIF(G:G,">="&G12),0),"."))) | G12: =IF(B12="","",SUM(D12:F12))
A13: =IF(B13="","",IF(COUNTIF(G:G,G13)=1,CONCATENATE(TEXT(COUNTIF(G:G,">="&G13),0),"."),CONCATENATE(TEXT(COUNTIF(G:G,">"&G13)+1,0),". – ",TEXT(COUNTIF(G:G,">="&G13),0),"."))) | G13: =IF(B13="","",SUM(D13:F13))
A14: =IF(B14="","",IF(COUNTIF(G:G,G14)=1,CONCATENATE(TEXT(COUNTIF(G:G,">="&G14),0),"."),CONCATENATE(TEXT(COUNTIF(G:G,">"&G14)+1,0),". – ",TEXT(COUNTIF(G:G,">="&G14),0),"."))) | G14: =IF(B14="","",SUM(D14:F14))
A15: =IF(B15="","",IF(COUNTIF(G:G,G15)=1,CONCATENATE(TEXT(COUNTIF(G:G,">="&G15),0),"."),CONCATENATE(TEXT(COUNTIF(G:G,">"&G15)+1,0),". – ",TEXT(COUNTIF(G:G,">="&G15),0),"."))) | G15: =IF(B15="","",SUM(D15:F15))
A16: =IF(B16="","",IF(COUNTIF(G:G,G16)=1,CONCATENATE(TEXT(COUNTIF(G:G,">="&G16),0),"."),CONCATENATE(TEXT(COUNTIF(G:G,">"&G16)+1,0),". – ",TEXT(COUNTIF(G:G,">="&G16),0),"."))) | G16: =IF(B16="","",SUM(D16:F16))
A17: =IF(B17="","",IF(COUNTIF(G:G,G17)=1,CONCATENATE(TEXT(COUNTIF(G:G,">="&G17),0),"."),CONCATENATE(TEXT(COUNTIF(G:G,">"&G17)+1,0),". – ",TEXT(COUNTIF(G:G,">="&G17),0),"."))) | G17: =IF(B17="","",SUM(D17:F17))
A18: =IF(B18="","",IF(COUNTIF(G:G,G18)=1,CONCATENATE(TEXT(COUNTIF(G:G,">="&G18),0),"."),CONCATENATE(TEXT(COUNTIF(G:G,">"&G18)+1,0),". – ",TEXT(COUNTIF(G:G,">="&G18),0),"."))) | G18: =IF(B18="","",SUM(D18:F18))
... A39: =IF(B39="","",IF(COUNTIF(G:G,G39)=1,CONCATENATE(TEXT(COUNTIF(G:G,">="&G39),0),"."),CONCATENATE(TEXT(COUNTIF(G:G,">"&G39)+1,0),". – ",TEXT(COUNTIF(G:G,">="&G39),0),"."))) | G39: =IF(B39="","",SUM(D39:F39))
C41: =CONCATENATE('definície premenných'!D6," OK MO: ",'definície premenných'!B6) -> Predseda OK MO: ???

Sheet Z8
A1: Výsledková listina okresného kola Matematickej olympiády
A2: =CONCATENATE(TEXT('definície premenných'!B3,0),". ročník, školský rok ",'definície premenných'!B4,", kategória Z8") -> 71. ročník, školský rok 2021/2022, kategória Z8
B3: Okres: | C3: ='definície premenných'!B5 -> ???
B4: Termín konania: | C4: ='definície premenných'!B12 -> 12. apríl 2022
A5: Poradie | B5: Meno a priezvisko | C5: Škola | D5: Body | G5: SPOLU | H5: žiaka/-čku pripravoval/-a
D6: 1.úloha | E6: 2.úloha | F6: 3.úloha
A7: =IF(B7="","",IF(COUNTIF(G:G,G7)=1,CONCATENATE(TEXT(COUNTIF(G:G,">="&G7),0),"."),CONCATENATE(TEXT(COUNTIF(G:G,">"&G7)+1,0),". – ",TEXT(COUNTIF(G:G,">="&G7),0),"."))) | G7: =IF(B7="","",SUM(D7:F7))
A8: =IF(B8="","",IF(COUNTIF(G:G,G8)=1,CONCATENATE(TEXT(COUNTIF(G:G,">="&G8),0),"."),CONCATENATE(TEXT(COUNTIF(G:G,">"&G8)+1,0),". – ",TEXT(COUNTIF(G:G,">="&G8),0),"."))) | G8: =IF(B8="","",SUM(D8:F8))
A9: =IF(B9="","",IF(COUNTIF(G:G,G9)=1,CONCATENATE(TEXT(COUNTIF(G:G,">="&G9),0),"."),CONCATENATE(TEXT(COUNTIF(G:G,">"&G9)+1,0),". – ",TEXT(COUNTIF(G:G,">="&G9),0),"."))) | G9: =IF(B9="","",SUM(D9:F9))
A10: =IF(B10="","",IF(COUNTIF(G:G,G10)=1,CONCATENATE(TEXT(COUNTIF(G:G,">="&G10),0),"."),CONCATENATE(TEXT(COUNTIF(G:G,">"&G10)+1,0),". – ",TEXT(COUNTIF(G:G,">="&G10),0),"."))) | G10: =IF(B10="","",SUM(D10:F10))
A11: =IF(B11="","",IF(COUNTIF(G:G,G11)=1,CONCATENATE(TEXT(COUNTIF(G:G,">="&G11),0),"."),CONCATENATE(TEXT(COUNTIF(G:G,">"&G11)+1,0),". – ",TEXT(COUNTIF(G:G,">="&G11),0),"."))) | G11: =IF(B11="","",SUM(D11:F11))
A12: =IF(B12="","",IF(COUNTIF(G:G,G12)=1,CONCATENATE(TEXT(COUNTIF(G:G,">="&G12),0),"."),CONCATENATE(TEXT(COUNTIF(G:G,">"&G12)+1,0),". – ",TEXT(COUNTIF(G:G,">="&G12),0),"."))) | G12: =IF(B12="","",SUM(D12:F12))
A13: =IF(B13="","",IF(COUNTIF(G:G,G13)=1,CONCATENATE(TEXT(COUNTIF(G:G,">="&G13),0),"."),CONCATENATE(TEXT(COUNTIF(G:G,">"&G13)+1,0),". – ",TEXT(COUNTIF(G:G,">="&G13),0),"."))) | G13: =IF(B13="","",SUM(D13:F13))
A14: =IF(B14="","",IF(COUNTIF(G:G,G14)=1,CONCATENATE(TEXT(COUNTIF(G:G,">="&G14),0),"."),CONCATENATE(TEXT(COUNTIF(G:G,">"&G14)+1,0),". – ",TEXT(COUNTIF(G:G,">="&G14),0),"."))) | G14: =IF(B14="","",SUM(D14:F14))
A15: =IF(B15="","",IF(COUNTIF(G:G,G15)=1,CONCATENATE(TEXT(COUNTIF(G:G,">="&G15),0),"."),CONCATENATE(TEXT(COUNTIF(G:G,">"&G15)+1,0),". – ",TEXT(COUNTIF(G:G,">="&G15),0),"."))) | G15: =IF(B15="","",SUM(D15:F15))
A16: =IF(B16="","",IF(COUNTIF(G:G,G16)=1,CONCATENATE(TEXT(COUNTIF(G:G,">="&G16),0),"."),CONCATENATE(TEXT(COUNTIF(G:G,">"&G16)+1,0),". – ",TEXT(COUNTIF(G:G,">="&G16),0),"."))) | G16: =IF(B16="","",SUM(D16:F16))
A17: =IF(B17="","",IF(COUNTIF(G:G,G17)=1,CONCATENATE(TEXT(COUNTIF(G:G,">="&G17),0),"."),CONCATENATE(TEXT(COUNTIF(G:G,">"&G17)+1,0),". – ",TEXT(COUNTIF(G:G,">="&G17),0),"."))) | G17: =IF(B17="","",SUM(D17:F17))
A18: =IF(B18="","",IF(COUNTIF(G:G,G18)=1,CONCATENATE(TEXT(COUNTIF(G:G,">="&G18),0),"."),CONCATENATE(TEXT(COUNTIF(G:G,">"&G18)+1,0),". – ",TEXT(COUNTIF(G:G,">="&G18),0),"."))) | G18: =IF(B18="","",SUM(D18:F18))
... A39: =IF(B39="","",IF(COUNTIF(G:G,G39)=1,CONCATENATE(TEXT(COUNTIF(G:G,">="&G39),0),"."),CONCATENATE(TEXT(COUNTIF(G:G,">"&G39)+1,0),". – ",TEXT(COUNTIF(G:G,">="&G39),0),"."))) | G39: =IF(B39="","",SUM(D39:F39))
C41: =CONCATENATE('definície premenných'!D6," OK MO: ",'definície premenných'!B6) -> Predseda OK MO: ???

Sheet Z9
A1: Výsledková listina okresného kola Matematickej olympiády
A2: =CONCATENATE(TEXT('definície premenných'!B3,0),". ročník, školský rok ",'definície premenných'!B4,", kategória Z9") -> 71. ročník, školský rok 2021/2022, kategória Z9
B3: Okres: | C3: ='definície premenných'!B5 -> ???
B4: Termín konania: | C4: ='definície premenných'!B13 -> 26. január 2022
A5: Poradie | B5: Meno a priezvisko | C5: Škola | D5: Body | H5: SPOLU | I5: žiaka/-čku pripravoval/-a
D6: 1.úloha | E6: 2.úloha | F6: 3.úloha | G6: 4.úloha
A7: =IF(B7="","",IF(COUNTIF(H:H,H7)=1,CONCATENATE(TEXT(COUNTIF(H:H,">="&H7),0),"."),CONCATENATE(TEXT(COUNTIF(H:H,">"&H7)+1,0),". – ",TEXT(COUNTIF(H:H,">="&H7),0),"."))) | H7: =IF(B7="","",SUM(D7:G7))
A8: =IF(B8="","",IF(COUNTIF(H:H,H8)=1,CONCATENATE(TEXT(COUNTIF(H:H,">="&H8),0),"."),CONCATENATE(TEXT(COUNTIF(H:H,">"&H8)+1,0),". – ",TEXT(COUNTIF(H:H,">="&H8),0),"."))) | H8: =IF(B8="","",SUM(D8:G8))
A9: =IF(B9="","",IF(COUNTIF(H:H,H9)=1,CONCATENATE(TEXT(COUNTIF(H:H,">="&H9),0),"."),CONCATENATE(TEXT(COUNTIF(H:H,">"&H9)+1,0),". – ",TEXT(COUNTIF(H:H,">="&H9),0),"."))) | H9: =IF(B9="","",SUM(D9:G9))
A10: =IF(B10="","",IF(COUNTIF(H:H,H10)=1,CONCATENATE(TEXT(COUNTIF(H:H,">="&H10),0),"."),CONCATENATE(TEXT(COUNTIF(H:H,">"&H10)+1,0),". – ",TEXT(COUNTIF(H:H,">="&H10),0),"."))) | H10: =IF(B10="","",SUM(D10:G10))
A11: =IF(B11="","",IF(COUNTIF(H:H,H11)=1,CONCATENATE(TEXT(COUNTIF(H:H,">="&H11),0),"."),CONCATENATE(TEXT(COUNTIF(H:H,">"&H11)+1,0),". – ",TEXT(COUNTIF(H:H,">="&H11),0),"."))) | H11: =IF(B11="","",SUM(D11:G11))
A12: =IF(B12="","",IF(COUNTIF(H:H,H12)=1,CONCATENATE(TEXT(COUNTIF(H:H,">="&H12),0),"."),CONCATENATE(TEXT(COUNTIF(H:H,">"&H12)+1,0),". – ",TEXT(COUNTIF(H:H,">="&H12),0),"."))) | H12: =IF(B12="","",SUM(D12:G12))
A13: =IF(B13="","",IF(COUNTIF(H:H,H13)=1,CONCATENATE(TEXT(COUNTIF(H:H,">="&H13),0),"."),CONCATENATE(TEXT(COUNTIF(H:H,">"&H13)+1,0),". – ",TEXT(COUNTIF(H:H,">="&H13),0),"."))) | H13: =IF(B13="","",SUM(D13:G13))
A14: =IF(B14="","",IF(COUNTIF(H:H,H14)=1,CONCATENATE(TEXT(COUNTIF(H:H,">="&H14),0),"."),CONCATENATE(TEXT(COUNTIF(H:H,">"&H14)+1,0),". – ",TEXT(COUNTIF(H:H,">="&H14),0),"."))) | H14: =IF(B14="","",SUM(D14:G14))
A15: =IF(B15="","",IF(COUNTIF(H:H,H15)=1,CONCATENATE(TEXT(COUNTIF(H:H,">="&H15),0),"."),CONCATENATE(TEXT(COUNTIF(H:H,">"&H15)+1,0),". – ",TEXT(COUNTIF(H:H,">="&H15),0),"."))) | H15: =IF(B15="","",SUM(D15:G15))
A16: =IF(B16="","",IF(COUNTIF(H:H,H16)=1,CONCATENATE(TEXT(COUNTIF(H:H,">="&H16),0),"."),CONCATENATE(TEXT(COUNTIF(H:H,">"&H16)+1,0),". – ",TEXT(COUNTIF(H:H,">="&H16),0),"."))) | H16: =IF(B16="","",SUM(D16:G16))
A17: =IF(B17="","",IF(COUNTIF(H:H,H17)=1,CONCATENATE(TEXT(COUNTIF(H:H,">="&H17),0),"."),CONCATENATE(TEXT(COUNTIF(H:H,">"&H17)+1,0),". – ",TEXT(COUNTIF(H:H,">="&H17),0),"."))) | H17: =IF(B17="","",SUM(D17:G17))
A18: =IF(B18="","",IF(COUNTIF(H:H,H18)=1,CONCATENATE(TEXT(COUNTIF(H:H,">="&H18),0),"."),CONCATENATE(TEXT(COUNTIF(H:H,">"&H18)+1,0),". – ",TEXT(COUNTIF(H:H,">="&H18),0),"."))) | H18: =IF(B18="","",SUM(D18:G18))
... A39: =IF(B39="","",IF(COUNTIF(H:H,H39)=1,CONCATENATE(TEXT(COUNTIF(H:H,">="&H39),0),"."),CONCATENATE(TEXT(COUNTIF(H:H,">"&H39)+1,0),". – ",TEXT(COUNTIF(H:H,">="&H39),0),"."))) | H39: =IF(B39="","",SUM(D39:G39))
C41: =CONCATENATE('definície premenných'!D6," OK MO: ",'definície premenných'!B6) -> Predseda OK MO: ???
